BEGIN:VCALENDAR
VERSION:2.0
PRODID:-//Rotary International: Madison, Alabama - ECPv6.15.20//NONSGML v1.0//EN
CALSCALE:GREGORIAN
METHOD:PUBLISH
X-WR-CALNAME:Rotary International: Madison, Alabama
X-ORIGINAL-URL:https://www.rocketcountyrotary.org
X-WR-CALDESC:Events for Rotary International: Madison, Alabama
REFRESH-INTERVAL;VALUE=DURATION:PT1H
X-Robots-Tag:noindex
X-PUBLISHED-TTL:PT1H
BEGIN:VTIMEZONE
TZID:America/Chicago
BEGIN:DAYLIGHT
TZOFFSETFROM:-0600
TZOFFSETTO:-0500
TZNAME:CDT
DTSTART:20220313T080000
END:DAYLIGHT
BEGIN:STANDARD
TZOFFSETFROM:-0500
TZOFFSETTO:-0600
TZNAME:CST
DTSTART:20221106T070000
END:STANDARD
BEGIN:DAYLIGHT
TZOFFSETFROM:-0600
TZOFFSETTO:-0500
TZNAME:CDT
DTSTART:20230312T080000
END:DAYLIGHT
BEGIN:STANDARD
TZOFFSETFROM:-0500
TZOFFSETTO:-0600
TZNAME:CST
DTSTART:20231105T070000
END:STANDARD
BEGIN:DAYLIGHT
TZOFFSETFROM:-0600
TZOFFSETTO:-0500
TZNAME:CDT
DTSTART:20240310T080000
END:DAYLIGHT
BEGIN:STANDARD
TZOFFSETFROM:-0500
TZOFFSETTO:-0600
TZNAME:CST
DTSTART:20241103T070000
END:STANDARD
END:VTIMEZONE
BEGIN:VEVENT
DTSTART;TZID=America/Chicago:20230919T180000
DTEND;TZID=America/Chicago:20230919T190000
DTSTAMP:20260425T162252
CREATED:20230829T041905Z
LAST-MODIFIED:20230830T002452Z
UID:506-1695146400-1695150000@www.rocketcountyrotary.org
SUMMARY:Rotary Club Dinner Meeting
DESCRIPTION:﻿﻿Join us at Old Black Bear Brewing Company in Madison\, AL for our bi-weekly meeting. Social time begins at 5:30 PM and the meeting begins at 6:00 PM.
URL:https://www.rocketcountyrotary.org/event/september-2023-meeting-2/
LOCATION:Old Black Bear Brewing Company\, 212 Main St.\, Madison\, AL
ATTACH;FMTTYPE=image/png:https://www.rocketcountyrotary.org/wp-content/uploads/2015/05/Rocket-County-Rotary-Club-Meetings.png
ORGANIZER;CN="Rocket County Rotary":MAILTO:info@rocketcountyrotary.org
END:VEVENT
END:VCALENDAR