BEGIN:VCALENDAR
VERSION:2.0
PRODID:-//Rotary International: Madison, Alabama - ECPv6.15.20//NONSGML v1.0//EN
CALSCALE:GREGORIAN
METHOD:PUBLISH
X-WR-CALNAME:Rotary International: Madison, Alabama
X-ORIGINAL-URL:https://www.rocketcountyrotary.org
X-WR-CALDESC:Events for Rotary International: Madison, Alabama
REFRESH-INTERVAL;VALUE=DURATION:PT1H
X-Robots-Tag:noindex
X-PUBLISHED-TTL:PT1H
BEGIN:VTIMEZONE
TZID:UTC
BEGIN:STANDARD
TZOFFSETFROM:+0000
TZOFFSETTO:+0000
TZNAME:UTC
DTSTART:20220101T000000
END:STANDARD
END:VTIMEZONE
BEGIN:VEVENT
DTSTART;TZID=UTC:20231205T173000
DTEND;TZID=UTC:20231205T190000
DTSTAMP:20260425T120959
CREATED:20231030T151657Z
LAST-MODIFIED:20231030T151734Z
UID:632-1701797400-1701802800@www.rocketcountyrotary.org
SUMMARY:Rotary Club Dinner Meeting
DESCRIPTION:Join us at Old Black Bear Brewing Company in Madison\, AL for our bi-weekly meeting. Social time begins at 5:30 PM and the meeting begins at 6:00 PM.
URL:https://www.rocketcountyrotary.org/event/december-2023-mtg-1/
LOCATION:Old Black Bear Brewing Company\, 212 Main St.\, Madison\, AL
CATEGORIES:Rotary Meeting
ATTACH;FMTTYPE=image/png:https://www.rocketcountyrotary.org/wp-content/uploads/2015/05/Rocket-County-Rotary-Club-Meetings.png
ORGANIZER;CN="Rocket County Rotary":MAILTO:info@rocketcountyrotary.org
END:VEVENT
END:VCALENDAR