BEGIN:VCALENDAR
VERSION:2.0
PRODID:-//Rotary International: Madison, Alabama - ECPv6.15.20//NONSGML v1.0//EN
CALSCALE:GREGORIAN
METHOD:PUBLISH
X-WR-CALNAME:Rotary International: Madison, Alabama
X-ORIGINAL-URL:https://www.rocketcountyrotary.org
X-WR-CALDESC:Events for Rotary International: Madison, Alabama
REFRESH-INTERVAL;VALUE=DURATION:PT1H
X-Robots-Tag:noindex
X-PUBLISHED-TTL:PT1H
BEGIN:VTIMEZONE
TZID:UTC
BEGIN:STANDARD
TZOFFSETFROM:+0000
TZOFFSETTO:+0000
TZNAME:UTC
DTSTART:20230101T000000
END:STANDARD
END:VTIMEZONE
BEGIN:VEVENT
DTSTART;TZID=UTC:20240914T090000
DTEND;TZID=UTC:20240914T120000
DTSTAMP:20260424T224905
CREATED:20240818T230434Z
LAST-MODIFIED:20240818T231835Z
UID:788-1726304400-1726315200@www.rocketcountyrotary.org
SUMMARY:Service Event: Bed Build at Sleep in Heavenly Peace
DESCRIPTION:Volunteers will team up with SHP volunteers to build beds for kids who need them. \nPlease sign up ASAP if you are interested in volunteering for this event\, spots fill up quickly! \nEvent site: AL-Huntsville – Sleep in Heavenly Peace \n  \n  \n 
URL:https://www.rocketcountyrotary.org/event/service-event-bed-build-at-sleep-in-heavenly-peace/
LOCATION:SHP Warehouse\, 6000 Technology Drive\, #7\, Huntsville\, AL\, 35805\, United States
END:VEVENT
END:VCALENDAR