BEGIN:VCALENDAR
VERSION:2.0
PRODID:-//Rotary International: Madison, Alabama - ECPv6.15.20//NONSGML v1.0//EN
CALSCALE:GREGORIAN
METHOD:PUBLISH
X-ORIGINAL-URL:https://www.rocketcountyrotary.org
X-WR-CALDESC:Events for Rotary International: Madison, Alabama
REFRESH-INTERVAL;VALUE=DURATION:PT1H
X-Robots-Tag:noindex
X-PUBLISHED-TTL:PT1H
BEGIN:VTIMEZONE
TZID:UTC
BEGIN:STANDARD
TZOFFSETFROM:+0000
TZOFFSETTO:+0000
TZNAME:UTC
DTSTART:20230101T000000
END:STANDARD
END:VTIMEZONE
BEGIN:VEVENT
DTSTART;TZID=UTC:20240917T180000
DTEND;TZID=UTC:20240917T190000
DTSTAMP:20260424T225231
CREATED:20240725T123838Z
LAST-MODIFIED:20240908T232525Z
UID:773-1726596000-1726599600@www.rocketcountyrotary.org
SUMMARY:Meeting with Speakers from Lincoln Village Ministry
DESCRIPTION:Our speakers will be Lincoln Village Ministry‘s Executive Director\, Jess Ahrens\, and Founder\, Mark Sterns.  They will share how their ministry is serving through educating\, sheltering\, comforting\, and equipping the Lincoln community.  Social time begins at 5:30 PM and the meeting starts at 6:00 PM. \n \n 
URL:https://www.rocketcountyrotary.org/event/meeting-with-speakers-from-lincoln-village-ministry/
LOCATION:Old Black Bear Brewing Company\, 212 Main St.\, Madison\, AL
END:VEVENT
END:VCALENDAR