BEGIN:VCALENDAR
VERSION:2.0
PRODID:-//Rotary International: Madison, Alabama - ECPv6.15.20//NONSGML v1.0//EN
CALSCALE:GREGORIAN
METHOD:PUBLISH
X-WR-CALNAME:Rotary International: Madison, Alabama
X-ORIGINAL-URL:https://www.rocketcountyrotary.org
X-WR-CALDESC:Events for Rotary International: Madison, Alabama
REFRESH-INTERVAL;VALUE=DURATION:PT1H
X-Robots-Tag:noindex
X-PUBLISHED-TTL:PT1H
BEGIN:VTIMEZONE
TZID:UTC
BEGIN:STANDARD
TZOFFSETFROM:+0000
TZOFFSETTO:+0000
TZNAME:UTC
DTSTART:20230101T000000
END:STANDARD
END:VTIMEZONE
BEGIN:VEVENT
DTSTART;TZID=UTC:20241015T180000
DTEND;TZID=UTC:20241015T190000
DTSTAMP:20260424T213338
CREATED:20241006T154352Z
LAST-MODIFIED:20241006T190754Z
UID:821-1729015200-1729018800@www.rocketcountyrotary.org
SUMMARY:Speaker Meeting: Enable Madison County
DESCRIPTION:Our speaker will be Charles “CJ” Jackman from Enable Madison County. He will tell the club about Enable Madison County’s programs and how volunteers help our older neighbors.  Social time begins at 5:30 PM and the meeting starts at 6:00 PM.
URL:https://www.rocketcountyrotary.org/event/speaker-meeting-enable-madison-county/
LOCATION:Old Black Bear Brewing Company\, 212 Main St.\, Madison\, AL
END:VEVENT
END:VCALENDAR