BEGIN:VCALENDAR
VERSION:2.0
PRODID:-//Rotary International: Madison, Alabama - ECPv6.15.20//NONSGML v1.0//EN
CALSCALE:GREGORIAN
METHOD:PUBLISH
X-ORIGINAL-URL:https://www.rocketcountyrotary.org
X-WR-CALDESC:Events for Rotary International: Madison, Alabama
REFRESH-INTERVAL;VALUE=DURATION:PT1H
X-Robots-Tag:noindex
X-PUBLISHED-TTL:PT1H
BEGIN:VTIMEZONE
TZID:UTC
BEGIN:STANDARD
TZOFFSETFROM:+0000
TZOFFSETTO:+0000
TZNAME:UTC
DTSTART:20230101T000000
END:STANDARD
END:VTIMEZONE
BEGIN:VEVENT
DTSTART;TZID=UTC:20241207T090000
DTEND;TZID=UTC:20241207T120000
DTSTAMP:20260424T185203
CREATED:20241104T225227Z
LAST-MODIFIED:20241125T224102Z
UID:876-1733562000-1733572800@www.rocketcountyrotary.org
SUMMARY:Service Event: Ramp Build
DESCRIPTION:Join us to build a wheelchair ramp for individuals unable to leave their homes.  These ramps allow them to remain safe and independent in their own homes. \nChris Taylor will be the project lead. Sign up here: https://www.signupgenius.com/go/5080B48AEAB2FABFE3-53515784-rocket
URL:https://www.rocketcountyrotary.org/event/save-the-date-ramp-build-service-event/
LOCATION:ENABLE Madison County Warehouse\, 1320 Grace Street NW\, Huntsville\, AL\, 35801\, United States
END:VEVENT
END:VCALENDAR