BEGIN:VCALENDAR
VERSION:2.0
PRODID:-//Rotary International: Madison, Alabama - ECPv6.15.20//NONSGML v1.0//EN
CALSCALE:GREGORIAN
METHOD:PUBLISH
X-ORIGINAL-URL:https://www.rocketcountyrotary.org
X-WR-CALDESC:Events for Rotary International: Madison, Alabama
REFRESH-INTERVAL;VALUE=DURATION:PT1H
X-Robots-Tag:noindex
X-PUBLISHED-TTL:PT1H
BEGIN:VTIMEZONE
TZID:UTC
BEGIN:STANDARD
TZOFFSETFROM:+0000
TZOFFSETTO:+0000
TZNAME:UTC
DTSTART:20240101T000000
END:STANDARD
END:VTIMEZONE
BEGIN:VEVENT
DTSTART;TZID=UTC:20250401T163000
DTEND;TZID=UTC:20250401T190000
DTSTAMP:20260424T125340
CREATED:20241216T224444Z
LAST-MODIFIED:20250303T230725Z
UID:895-1743525000-1743534000@www.rocketcountyrotary.org
SUMMARY:Service Meeting: Build Night for Enable Madison Co
DESCRIPTION:Join us as we pre-build and prepare sections and materials for future ramp builds.  Let’s stock the Enable warehouse with the inventory to build wheelchair ramps across Madison County. \nFor more information on Enable and warehouse worknights\, click HERE. \n\n\nSome things to keep in mind:\n\n\n\n\n\nAges 18 and older welcome.\nWear closed-toe shoes.\nEnable Madison County provides all tools\, volunteers bring safety glasses.\nAll materials in the Warehouse are for Enable use.
URL:https://www.rocketcountyrotary.org/event/service-meeting-build-night-for-enable-madison-co/
LOCATION:ENABLE Madison County Warehouse\, 1320 Grace Street NW\, Huntsville\, AL\, 35801\, United States
END:VEVENT
END:VCALENDAR