BEGIN:VCALENDAR
VERSION:2.0
PRODID:-//Rotary International: Madison, Alabama - ECPv6.15.20//NONSGML v1.0//EN
CALSCALE:GREGORIAN
METHOD:PUBLISH
X-WR-CALNAME:Rotary International: Madison, Alabama
X-ORIGINAL-URL:https://www.rocketcountyrotary.org
X-WR-CALDESC:Events for Rotary International: Madison, Alabama
REFRESH-INTERVAL;VALUE=DURATION:PT1H
X-Robots-Tag:noindex
X-PUBLISHED-TTL:PT1H
BEGIN:VTIMEZONE
TZID:UTC
BEGIN:STANDARD
TZOFFSETFROM:+0000
TZOFFSETTO:+0000
TZNAME:UTC
DTSTART:20240101T000000
END:STANDARD
END:VTIMEZONE
BEGIN:VEVENT
DTSTART;TZID=UTC:20250603T180000
DTEND;TZID=UTC:20250603T190000
DTSTAMP:20260424T100507
CREATED:20250518T204408Z
LAST-MODIFIED:20250518T204408Z
UID:972-1748973600-1748977200@www.rocketcountyrotary.org
SUMMARY:Social Meeting with Club Updates
DESCRIPTION:We will discuss club business including an update by Michael St. Peter on international service work and then socialize with club members and guests. \n  \n 
URL:https://www.rocketcountyrotary.org/event/social-meeting-with-club-updates/
LOCATION:Old Black Bear Brewing Company\, 212 Main St.\, Madison\, AL
END:VEVENT
END:VCALENDAR