BEGIN:VCALENDAR
VERSION:2.0
PRODID:-//Rotary International: Madison, Alabama - ECPv6.15.20//NONSGML v1.0//EN
CALSCALE:GREGORIAN
METHOD:PUBLISH
X-ORIGINAL-URL:https://www.rocketcountyrotary.org
X-WR-CALDESC:Events for Rotary International: Madison, Alabama
REFRESH-INTERVAL;VALUE=DURATION:PT1H
X-Robots-Tag:noindex
X-PUBLISHED-TTL:PT1H
BEGIN:VTIMEZONE
TZID:UTC
BEGIN:STANDARD
TZOFFSETFROM:+0000
TZOFFSETTO:+0000
TZNAME:UTC
DTSTART:20240101T000000
END:STANDARD
END:VTIMEZONE
BEGIN:VEVENT
DTSTART;TZID=UTC:20250805T180000
DTEND;TZID=UTC:20250805T190000
DTSTAMP:20260424T071426
CREATED:20250727T195249Z
LAST-MODIFIED:20250727T195433Z
UID:995-1754416800-1754420400@www.rocketcountyrotary.org
SUMMARY:Social Meeting at The Beer Hog
DESCRIPTION:We will discuss club business and socialize with club members and guests.
URL:https://www.rocketcountyrotary.org/event/social-meeting-at-the-beer-hog/
LOCATION:The Beer Hog\, 130 Plaza Blvd\, Madison\, AL\, 35758\, United States
END:VEVENT
END:VCALENDAR