BEGIN:VCALENDAR
VERSION:2.0
PRODID:-//Rotary International: Madison, Alabama - ECPv6.15.20//NONSGML v1.0//EN
CALSCALE:GREGORIAN
METHOD:PUBLISH
X-ORIGINAL-URL:https://www.rocketcountyrotary.org
X-WR-CALDESC:Events for Rotary International: Madison, Alabama
REFRESH-INTERVAL;VALUE=DURATION:PT1H
X-Robots-Tag:noindex
X-PUBLISHED-TTL:PT1H
BEGIN:VTIMEZONE
TZID:UTC
BEGIN:STANDARD
TZOFFSETFROM:+0000
TZOFFSETTO:+0000
TZNAME:UTC
DTSTART:20240101T000000
END:STANDARD
END:VTIMEZONE
BEGIN:VEVENT
DTSTART;TZID=UTC:20250819T180000
DTEND;TZID=UTC:20250819T190000
DTSTAMP:20260424T071425
CREATED:20250727T195740Z
LAST-MODIFIED:20250727T195756Z
UID:1006-1755626400-1755630000@www.rocketcountyrotary.org
SUMMARY:Speaker Meeting with District Governor Butler Cain\, PhD
DESCRIPTION:Some background on our speaker:\nButler Cain is a Professor of Mass Communication at the University of North Alabama. He received a Ph.D. in Communication and Information Sciences from the University of Alabama and has master’s degrees in International Policy Management and Journalism.\nButler is a member of the Rotary Club of Florence. He represented Rotary District 6860 as a member of the 2008 Group Study Exchange team to the Czech Republic and Slovakia. He joined the Rotary Club of Tuscaloosa later that year. When he moved to Texas\, he joined the Rotary Club of Canyon\, serving as president during the 2011-2012 Rotary year. He was also an Assistant Governor in Rotary District 5730 before returning to Alabama.\nSocial time begins at 5:45pm and the meeting starts at 6:00 pm.
URL:https://www.rocketcountyrotary.org/event/speaker-meeting-with-district-governor-butler-cain-phd/
LOCATION:Old Black Bear Brewing Company\, 212 Main St.\, Madison\, AL
END:VEVENT
END:VCALENDAR