BEGIN:VCALENDAR
VERSION:2.0
PRODID:-//Rotary International: Madison, Alabama - ECPv6.15.20//NONSGML v1.0//EN
CALSCALE:GREGORIAN
METHOD:PUBLISH
X-ORIGINAL-URL:https://www.rocketcountyrotary.org
X-WR-CALDESC:Events for Rotary International: Madison, Alabama
REFRESH-INTERVAL;VALUE=DURATION:PT1H
X-Robots-Tag:noindex
X-PUBLISHED-TTL:PT1H
BEGIN:VTIMEZONE
TZID:UTC
BEGIN:STANDARD
TZOFFSETFROM:+0000
TZOFFSETTO:+0000
TZNAME:UTC
DTSTART:20240101T000000
END:STANDARD
END:VTIMEZONE
BEGIN:VEVENT
DTSTART;TZID=UTC:20251118T180000
DTEND;TZID=UTC:20251118T193000
DTSTAMP:20260424T025956
CREATED:20251026T193258Z
LAST-MODIFIED:20251026T193258Z
UID:1064-1763488800-1763494200@www.rocketcountyrotary.org
SUMMARY:Speaker Meeting with Make-A-Wish
DESCRIPTION:Our speaker from the Make-A-Wish Foundation will speak about Fundraising 101.\nSocial time begins at 5:30 PM and the meeting starts at 6:00 PM.
URL:https://www.rocketcountyrotary.org/event/speaker-meeting-with-make-a-wish/
LOCATION:Old Black Bear Brewing Company\, 212 Main St.\, Madison\, AL
END:VEVENT
END:VCALENDAR