BEGIN:VCALENDAR
VERSION:2.0
PRODID:-//Rotary International: Madison, Alabama - ECPv6.15.20//NONSGML v1.0//EN
CALSCALE:GREGORIAN
METHOD:PUBLISH
X-WR-CALNAME:Rotary International: Madison, Alabama
X-ORIGINAL-URL:https://www.rocketcountyrotary.org
X-WR-CALDESC:Events for Rotary International: Madison, Alabama
REFRESH-INTERVAL;VALUE=DURATION:PT1H
X-Robots-Tag:noindex
X-PUBLISHED-TTL:PT1H
BEGIN:VTIMEZONE
TZID:UTC
BEGIN:STANDARD
TZOFFSETFROM:+0000
TZOFFSETTO:+0000
TZNAME:UTC
DTSTART:20250101T000000
END:STANDARD
END:VTIMEZONE
BEGIN:VEVENT
DTSTART;TZID=UTC:20260120T180000
DTEND;TZID=UTC:20260120T190000
DTSTAMP:20260423T235855
CREATED:20260118T210108Z
LAST-MODIFIED:20260118T210108Z
UID:1105-1768932000-1768935600@www.rocketcountyrotary.org
SUMMARY:Speaker Meeting with Charlie Hardee
DESCRIPTION:Charlie Hardee will join the club virtually and speak on Human-Centered Leadership. \nSocial time begins at 5:30 PM and the meeting starts at 6:00 PM.
URL:https://www.rocketcountyrotary.org/event/speaker-meeting-with-charlie-hardee/
LOCATION:Old Black Bear Brewing Company\, 212 Main St.\, Madison\, AL
END:VEVENT
END:VCALENDAR