BEGIN:VCALENDAR
VERSION:2.0
PRODID:-//Rotary International: Madison, Alabama - ECPv6.15.20//NONSGML v1.0//EN
CALSCALE:GREGORIAN
METHOD:PUBLISH
X-WR-CALNAME:Rotary International: Madison, Alabama
X-ORIGINAL-URL:https://www.rocketcountyrotary.org
X-WR-CALDESC:Events for Rotary International: Madison, Alabama
REFRESH-INTERVAL;VALUE=DURATION:PT1H
X-Robots-Tag:noindex
X-PUBLISHED-TTL:PT1H
BEGIN:VTIMEZONE
TZID:UTC
BEGIN:STANDARD
TZOFFSETFROM:+0000
TZOFFSETTO:+0000
TZNAME:UTC
DTSTART:20250101T000000
END:STANDARD
END:VTIMEZONE
BEGIN:VTIMEZONE
TZID:America/Chicago
BEGIN:DAYLIGHT
TZOFFSETFROM:-0600
TZOFFSETTO:-0500
TZNAME:CDT
DTSTART:20220313T080000
END:DAYLIGHT
BEGIN:STANDARD
TZOFFSETFROM:-0500
TZOFFSETTO:-0600
TZNAME:CST
DTSTART:20221106T070000
END:STANDARD
BEGIN:DAYLIGHT
TZOFFSETFROM:-0600
TZOFFSETTO:-0500
TZNAME:CDT
DTSTART:20230312T080000
END:DAYLIGHT
BEGIN:STANDARD
TZOFFSETFROM:-0500
TZOFFSETTO:-0600
TZNAME:CST
DTSTART:20231105T070000
END:STANDARD
BEGIN:DAYLIGHT
TZOFFSETFROM:-0600
TZOFFSETTO:-0500
TZNAME:CDT
DTSTART:20240310T080000
END:DAYLIGHT
BEGIN:STANDARD
TZOFFSETFROM:-0500
TZOFFSETTO:-0600
TZNAME:CST
DTSTART:20241103T070000
END:STANDARD
END:VTIMEZONE
BEGIN:VEVENT
DTSTART;TZID=UTC:20260307T180000
DTEND;TZID=UTC:20260307T210000
DTSTAMP:20260423T224944
CREATED:20260115T142550Z
LAST-MODIFIED:20260115T143850Z
UID:1090-1772906400-1772917200@www.rocketcountyrotary.org
SUMMARY:Casino Night | High Stakes for Vision
DESCRIPTION:Join us at Rocket County Rotary Casino Night to raise funds for We Cure Blindness and support a great cause.\n\n\n\nWelcome to the Rocket County Rotary Casino Night to support the We Cure Blindness medical mission in Honduras. A night of fun and fundraising at The Beer Hog Madison. Enjoy a night of games\, music\, and great company. Put on your best casino attire and get ready to roll the dice for a good cause. Let’s come together to make a difference and have a blast while doing it. At the end of the night\, cash in your winnings for raffle tickets for a chance to win door prizes. See you there! \nYour generous support will help us bring clear sight to the people of southern Honduras\, empowering communities and changing lives.
URL:https://www.rocketcountyrotary.org/event/casino-night-high-stakes-for-vision/
LOCATION:Beer Hog\, 130 Plaza Blvd\, Madison\, AL\, 35758\, United States
CATEGORIES:Railyard BBQ Brawl
ATTACH;FMTTYPE=image/png:https://www.rocketcountyrotary.org/wp-content/uploads/2026/01/High-Stakes-for-Vision-Casino-Night-Rocket-County-Rotary.png
ORGANIZER;CN="Rocket County Rotary":MAILTO:info@rocketcountyrotary.org
END:VEVENT
BEGIN:VEVENT
DTSTART;TZID=America/Chicago:20231028T110000
DTEND;TZID=America/Chicago:20231028T223000
DTSTAMP:20260423T224944
CREATED:20230801T131019Z
LAST-MODIFIED:20230829T191405Z
UID:568-1698490800-1698532200@www.rocketcountyrotary.org
SUMMARY:Railyard BBQ Brawl and Music Fest
DESCRIPTION:﻿﻿The 3rd Annual Railyard BBQ Brawl and Music Fest returns to Downtown Madison on October 28th.
URL:https://www.rocketcountyrotary.org/event/railyard-bbq-brawl-and-music-fest/
LOCATION:Old Black Bear Brewing Company\, 212 Main St.\, Madison\, AL
CATEGORIES:Railyard BBQ Brawl
ATTACH;FMTTYPE=image/png:https://www.rocketcountyrotary.org/wp-content/uploads/2023/08/Railyard-BBQ-Brawl-Madison-Alabama.png
ORGANIZER;CN="Rocket County Rotary":MAILTO:info@rocketcountyrotary.org
END:VEVENT
END:VCALENDAR