BEGIN:VCALENDAR
VERSION:2.0
PRODID:-//Rotary International: Madison, Alabama - ECPv6.15.20//NONSGML v1.0//EN
CALSCALE:GREGORIAN
METHOD:PUBLISH
X-WR-CALNAME:Rotary International: Madison, Alabama
X-ORIGINAL-URL:https://www.rocketcountyrotary.org
X-WR-CALDESC:Events for Rotary International: Madison, Alabama
REFRESH-INTERVAL;VALUE=DURATION:PT1H
X-Robots-Tag:noindex
X-PUBLISHED-TTL:PT1H
BEGIN:VTIMEZONE
TZID:UTC
BEGIN:STANDARD
TZOFFSETFROM:+0000
TZOFFSETTO:+0000
TZNAME:UTC
DTSTART:20230101T000000
END:STANDARD
END:VTIMEZONE
BEGIN:VEVENT
DTSTART;TZID=UTC:20241105T180000
DTEND;TZID=UTC:20241105T190000
DTSTAMP:20260424T185203
CREATED:20241006T154627Z
LAST-MODIFIED:20241020T185753Z
UID:826-1730829600-1730833200@www.rocketcountyrotary.org
SUMMARY:Speaker Meeting: CNI Solutions
DESCRIPTION:Our speaker will be Charles Frye\, President of CNI Solutions.  He will share how CNI Solutions is teaching entrepreneurship\, financial literacy\, and professional development skills to underserved communities in the Huntsville area.  Social time begins at 5:45 PM and the meeting starts at 6:00 PM.
URL:https://www.rocketcountyrotary.org/event/speaker-meeting/
LOCATION:Old Black Bear Brewing Company\, 212 Main St.\, Madison\, AL
END:VEVENT
BEGIN:VEVENT
DTSTART;TZID=UTC:20241119T180000
DTEND;TZID=UTC:20241119T190000
DTSTAMP:20260424T185203
CREATED:20241006T154104Z
LAST-MODIFIED:20241006T185746Z
UID:818-1732039200-1732042800@www.rocketcountyrotary.org
SUMMARY:Social Meeting
DESCRIPTION:We will discuss club business and socialize with club members and guests.
URL:https://www.rocketcountyrotary.org/event/social-meeting-2/
LOCATION:Old Black Bear Brewing Company\, 212 Main St.\, Madison\, AL
END:VEVENT
BEGIN:VEVENT
DTSTART;TZID=UTC:20241123T080000
DTEND;TZID=UTC:20241123T120000
DTSTAMP:20260424T185203
CREATED:20241020T202803Z
LAST-MODIFIED:20241020T202849Z
UID:865-1732348800-1732363200@www.rocketcountyrotary.org
SUMMARY:Service Event: Serving Saturday at Lincoln Village
DESCRIPTION:Join us as we serve in various areas throughout the Lincoln Community.  Be sure to wear closed toe shoes and clothes you won’t mind getting dirty. Also\, bring a mask and work gloves if you have them available. \nBefore the service event\, fill out the online volunteer form at lincolnvillage.org/volunteer
URL:https://www.rocketcountyrotary.org/event/service-event-serving-saturday-at-lincoln-village/
LOCATION:1110 Meridian St Huntsville\, AL 35801\, 1110 Meridian St\, Huntsville\, AL\, 35801
END:VEVENT
END:VCALENDAR