BEGIN:VCALENDAR
VERSION:2.0
PRODID:-//Rotary International: Madison, Alabama - ECPv6.15.20//NONSGML v1.0//EN
CALSCALE:GREGORIAN
METHOD:PUBLISH
X-WR-CALNAME:Rotary International: Madison, Alabama
X-ORIGINAL-URL:https://www.rocketcountyrotary.org
X-WR-CALDESC:Events for Rotary International: Madison, Alabama
REFRESH-INTERVAL;VALUE=DURATION:PT1H
X-Robots-Tag:noindex
X-PUBLISHED-TTL:PT1H
BEGIN:VTIMEZONE
TZID:UTC
BEGIN:STANDARD
TZOFFSETFROM:+0000
TZOFFSETTO:+0000
TZNAME:UTC
DTSTART:20230101T000000
END:STANDARD
END:VTIMEZONE
BEGIN:VEVENT
DTSTART;TZID=UTC:20241203T180000
DTEND;TZID=UTC:20241203T190000
DTSTAMP:20260424T172517
CREATED:20241020T190321Z
LAST-MODIFIED:20241020T201819Z
UID:852-1733248800-1733252400@www.rocketcountyrotary.org
SUMMARY:Speaker Meeting: Reagan's Clinic
DESCRIPTION:Our speaker will be Dr. Marc Hultquist\, Developmental & Behavioral Pediatrician and CEO.  He will speak on the pediatric clinic which focuses on children with special health care needs or medical complexities. Social time begins at 5:45 PM and the meeting starts at 6:00pm. \nreagansclinic.com
URL:https://www.rocketcountyrotary.org/event/speaker-meeting-reagans-clinic/
LOCATION:Old Black Bear Brewing Company\, 212 Main St.\, Madison\, AL
END:VEVENT
BEGIN:VEVENT
DTSTART;TZID=UTC:20241207T090000
DTEND;TZID=UTC:20241207T120000
DTSTAMP:20260424T172517
CREATED:20241104T225227Z
LAST-MODIFIED:20241125T224102Z
UID:876-1733562000-1733572800@www.rocketcountyrotary.org
SUMMARY:Service Event: Ramp Build
DESCRIPTION:Join us to build a wheelchair ramp for individuals unable to leave their homes.  These ramps allow them to remain safe and independent in their own homes. \nChris Taylor will be the project lead. Sign up here: https://www.signupgenius.com/go/5080B48AEAB2FABFE3-53515784-rocket
URL:https://www.rocketcountyrotary.org/event/save-the-date-ramp-build-service-event/
LOCATION:ENABLE Madison County Warehouse\, 1320 Grace Street NW\, Huntsville\, AL\, 35801\, United States
END:VEVENT
BEGIN:VEVENT
DTSTART;TZID=UTC:20241217T180000
DTEND;TZID=UTC:20241217T210000
DTSTAMP:20260424T172517
CREATED:20241020T193302Z
LAST-MODIFIED:20241216T224155Z
UID:859-1734458400-1734469200@www.rocketcountyrotary.org
SUMMARY:Christmas Pajama Pub Crawl
DESCRIPTION:We will participate in the Madison Christmas pajama pub crawl. Click here for the Facebook Event. \nSchedule:\n6:00 – 7:00 PM Vine and Oak (New bar in downtown Madison located at 69 Martin Street) Site: Home | The Vine and Oak\n7:00 – 8:00 PM Old Black Bear (Madison Location)\n8:00 – 9:00 PM Stem and Stein Site: The Stem and Stein | Wine & Beer | Madison\, Alabama
URL:https://www.rocketcountyrotary.org/event/social-meeting-3/
LOCATION:Old Black Bear Brewing Company\, 212 Main St.\, Madison\, AL
END:VEVENT
END:VCALENDAR