BEGIN:VCALENDAR
VERSION:2.0
PRODID:-//Rotary International: Madison, Alabama - ECPv6.15.20//NONSGML v1.0//EN
CALSCALE:GREGORIAN
METHOD:PUBLISH
X-ORIGINAL-URL:https://www.rocketcountyrotary.org
X-WR-CALDESC:Events for Rotary International: Madison, Alabama
REFRESH-INTERVAL;VALUE=DURATION:PT1H
X-Robots-Tag:noindex
X-PUBLISHED-TTL:PT1H
BEGIN:VTIMEZONE
TZID:UTC
BEGIN:STANDARD
TZOFFSETFROM:+0000
TZOFFSETTO:+0000
TZNAME:UTC
DTSTART:20240101T000000
END:STANDARD
END:VTIMEZONE
BEGIN:VEVENT
DTSTART;TZID=UTC:20250204T180000
DTEND;TZID=UTC:20250204T190000
DTSTAMP:20260424T141403
CREATED:20250126T190429Z
LAST-MODIFIED:20250126T192215Z
UID:904-1738692000-1738695600@www.rocketcountyrotary.org
SUMMARY:Annual Meeting
DESCRIPTION:We will vote on changes to the club by-laws and elect the 2025-2026 board of directors.
URL:https://www.rocketcountyrotary.org/event/annual-meeting/
LOCATION:Old Black Bear Brewing Company\, 212 Main St.\, Madison\, AL
END:VEVENT
BEGIN:VEVENT
DTSTART;TZID=UTC:20250218T180000
DTEND;TZID=UTC:20250218T200000
DTSTAMP:20260424T141403
CREATED:20250126T190627Z
LAST-MODIFIED:20250208T202501Z
UID:906-1739901600-1739908800@www.rocketcountyrotary.org
SUMMARY:Social Meeting at GuajanaRum
DESCRIPTION:We will meet at GuajanaRum for rum tasting and to learn about the rum making process.\n\nGuajanaRum’s website: https://guajanarum.com/
URL:https://www.rocketcountyrotary.org/event/social-meeting-4/
LOCATION:GuajanaRum\, 9582 Madison Blvd\, Suite 3\, Madison\, AL\, 35758
END:VEVENT
END:VCALENDAR