BEGIN:VCALENDAR
VERSION:2.0
PRODID:-//Rotary International: Madison, Alabama - ECPv6.15.20//NONSGML v1.0//EN
CALSCALE:GREGORIAN
METHOD:PUBLISH
X-WR-CALNAME:Rotary International: Madison, Alabama
X-ORIGINAL-URL:https://www.rocketcountyrotary.org
X-WR-CALDESC:Events for Rotary International: Madison, Alabama
REFRESH-INTERVAL;VALUE=DURATION:PT1H
X-Robots-Tag:noindex
X-PUBLISHED-TTL:PT1H
BEGIN:VTIMEZONE
TZID:UTC
BEGIN:STANDARD
TZOFFSETFROM:+0000
TZOFFSETTO:+0000
TZNAME:UTC
DTSTART:20240101T000000
END:STANDARD
END:VTIMEZONE
BEGIN:VEVENT
DTSTART;TZID=UTC:20250506T180000
DTEND;TZID=UTC:20250506T190000
DTSTAMP:20260424T101509
CREATED:20250330T144551Z
LAST-MODIFIED:20250330T144551Z
UID:938-1746554400-1746558000@www.rocketcountyrotary.org
SUMMARY:Speaker Meeting: Bo Williams with North Alabama Human Trafficking Task Force
DESCRIPTION:Bo Williams is a professional communicator and human trafficking activist.  As the Vice Chair for the North Alabama Human Trafficking Task Force\, he leads online initiatives and training programs.  The presentation is intended to raise awareness of human trafficking\, including what it is and isn’t\, how big the problem is\, where and how it’s happening\, how to keep yourself and your family safe\, how to spot possible human trafficking activity\, and what to do if you do. \nSocial time begins at 5:45pm and the meeting starts at 6:00 pm. \n 
URL:https://www.rocketcountyrotary.org/event/speaker-meeting-bo-williams-with-north-alabama-human-trafficking-task-force/
LOCATION:Old Black Bear Brewing Company\, 212 Main St.\, Madison\, AL
END:VEVENT
BEGIN:VEVENT
DTSTART;TZID=UTC:20250510T073000
DTEND;TZID=UTC:20250510T103000
DTSTAMP:20260424T101509
CREATED:20250508T183033Z
LAST-MODIFIED:20250508T183033Z
UID:964-1746862200-1746873000@www.rocketcountyrotary.org
SUMMARY:Service Opportunity: Mobile Pantry with One Generation Away
DESCRIPTION:One Generation Away is wiping out hunger by rescuing and redistributing food. Their Mobile Pantry offers fresh produce\, dry goods\, and more to anyone in need — no questions asked! Food is distributed starting around 9 a.m. Volunteers\, please arrive at 7:30 a.m. No registration is required to volunteer. \nFor more details: https://onegenaway.com/calendar/madison-alabama-11/
URL:https://www.rocketcountyrotary.org/event/service-opportunity-mobile-pantry-with-one-generation-away/
LOCATION:Discovery Middle School\, 1304 Hughes Rd\, Madison\, AL\, 35758\, United States
END:VEVENT
BEGIN:VEVENT
DTSTART;TZID=UTC:20250517T090000
DTEND;TZID=UTC:20250517T120000
DTSTAMP:20260424T101509
CREATED:20250417T164244Z
LAST-MODIFIED:20250417T164244Z
UID:954-1747472400-1747483200@www.rocketcountyrotary.org
SUMMARY:Service Event: Wheelchair Ramp Build
DESCRIPTION:Join us to build a wheelchair ramp for individuals unable to leave their homes. Chris will lead our team to build a wheel chair ramp that will allow someone to remain safe and independent in their own homes.\n\nPlease bring a pair of gloves and a water bottle.
URL:https://www.rocketcountyrotary.org/event/service-event-wheelchair-ramp-build/
LOCATION:Ramp Site\, 1106 Big Cove Road SE\, Huntsville\, AL\, 35801
END:VEVENT
BEGIN:VEVENT
DTSTART;TZID=UTC:20250520T180000
DTEND;TZID=UTC:20250520T190000
DTSTAMP:20260424T101509
CREATED:20250330T143251Z
LAST-MODIFIED:20250330T143251Z
UID:932-1747764000-1747767600@www.rocketcountyrotary.org
SUMMARY:Social Meeting
DESCRIPTION:We will discuss club business and socialize with club members and guests. \n 
URL:https://www.rocketcountyrotary.org/event/social-meeting-6/
LOCATION:Old Black Bear Brewing Company\, 212 Main St.\, Madison\, AL
END:VEVENT
END:VCALENDAR