BEGIN:VCALENDAR
VERSION:2.0
PRODID:-//Rotary International: Madison, Alabama - ECPv6.15.20//NONSGML v1.0//EN
CALSCALE:GREGORIAN
METHOD:PUBLISH
X-ORIGINAL-URL:https://www.rocketcountyrotary.org
X-WR-CALDESC:Events for Rotary International: Madison, Alabama
REFRESH-INTERVAL;VALUE=DURATION:PT1H
X-Robots-Tag:noindex
X-PUBLISHED-TTL:PT1H
BEGIN:VTIMEZONE
TZID:UTC
BEGIN:STANDARD
TZOFFSETFROM:+0000
TZOFFSETTO:+0000
TZNAME:UTC
DTSTART:20240101T000000
END:STANDARD
END:VTIMEZONE
BEGIN:VEVENT
DTSTART;TZID=UTC:20250701T180000
DTEND;TZID=UTC:20250701T190000
DTSTAMP:20260424T071431
CREATED:20250630T173629Z
LAST-MODIFIED:20250630T173629Z
UID:981-1751392800-1751396400@www.rocketcountyrotary.org
SUMMARY:Speaker Meeting: Harsha Rayapati presenting on "Life with Achondroplasia"
DESCRIPTION:Kick off the new Rotary year with incoming club President Harsha Rayapati for the topic “Life with Achondroplasia.”\n\nHarsha is a founding member of the Rocket County club and has been an active participant in the club’s service projects. He is also a bone fide rocket scientist who works on space vehicles when not volunteering.\n\nSocial time begins at 5:45pm and the meeting starts at 6:00 pm.
URL:https://www.rocketcountyrotary.org/event/speaker-meeting-harsha-rayapati-presenting-on-life-with-achondroplasia/
LOCATION:Old Black Bear Brewing Company\, 212 Main St.\, Madison\, AL
END:VEVENT
BEGIN:VEVENT
DTSTART;TZID=UTC:20250715T180000
DTEND;TZID=UTC:20250715T190000
DTSTAMP:20260424T071431
CREATED:20250706T165108Z
LAST-MODIFIED:20250706T165220Z
UID:985-1752602400-1752606000@www.rocketcountyrotary.org
SUMMARY:Speaker Meeting: Pat Cross with Boil n' Bragging
DESCRIPTION:This week we will hear from two speakers.\n\nPat Cross (Madison Club member and past District Governor) will tell our club about the upcoming  Boil n’ Bragging event in Birmingham.  David “Luke” Lucas (Rocket County) will share details of the School Flag Project which is a District Grant Project candidate.\n\nSocial time begins at 5:45pm and the meeting starts at 6:00 pm.
URL:https://www.rocketcountyrotary.org/event/speaker-meeting-pat-cross-with-boil-n-bragging/
LOCATION:Old Black Bear Brewing Company\, 212 Main St.\, Madison\, AL
END:VEVENT
END:VCALENDAR