BEGIN:VCALENDAR
VERSION:2.0
PRODID:-//Rotary International: Madison, Alabama - ECPv6.15.20//NONSGML v1.0//EN
CALSCALE:GREGORIAN
METHOD:PUBLISH
X-WR-CALNAME:Rotary International: Madison, Alabama
X-ORIGINAL-URL:https://www.rocketcountyrotary.org
X-WR-CALDESC:Events for Rotary International: Madison, Alabama
REFRESH-INTERVAL;VALUE=DURATION:PT1H
X-Robots-Tag:noindex
X-PUBLISHED-TTL:PT1H
BEGIN:VTIMEZONE
TZID:UTC
BEGIN:STANDARD
TZOFFSETFROM:+0000
TZOFFSETTO:+0000
TZNAME:UTC
DTSTART:20240101T000000
END:STANDARD
END:VTIMEZONE
BEGIN:VEVENT
DTSTART;TZID=UTC:20250902T180000
DTEND;TZID=UTC:20250902T190000
DTSTAMP:20260424T042501
CREATED:20250901T151633Z
LAST-MODIFIED:20250901T151633Z
UID:1041-1756836000-1756839600@www.rocketcountyrotary.org
SUMMARY:Social Meeting
DESCRIPTION:We will discuss club business and socialize with club members and guests. \n 
URL:https://www.rocketcountyrotary.org/event/social-meeting-7/
LOCATION:Old Black Bear Brewing Company\, 212 Main St.\, Madison\, AL
END:VEVENT
BEGIN:VEVENT
DTSTART;TZID=UTC:20250916T180000
DTEND;TZID=UTC:20250916T190000
DTSTAMP:20260424T042501
CREATED:20250901T152447Z
LAST-MODIFIED:20250901T152447Z
UID:1046-1758045600-1758049200@www.rocketcountyrotary.org
SUMMARY:Speaker Meeting with HaveiHope
DESCRIPTION:Our speakers will be HAVEiHOPE‘s board president\, Jim Haraway\, and founder\, Bryan Cordell\, who will tell how they got started and how they work with at-risk kids in the Huntsville area. \nSocial time begins at 5:30 PM and the meeting starts at 6:00 PM. \n  \n \n 
URL:https://www.rocketcountyrotary.org/event/speaker-meeting-with-haveihope/
LOCATION:Old Black Bear Brewing Company\, 212 Main St.\, Madison\, AL
END:VEVENT
BEGIN:VEVENT
DTSTART;TZID=UTC:20250930T183000
DTEND;TZID=UTC:20250930T200000
DTSTAMP:20260424T042501
CREATED:20250901T153020Z
LAST-MODIFIED:20250901T153020Z
UID:1051-1759257000-1759262400@www.rocketcountyrotary.org
SUMMARY:Multi-Club Social at Irons One Distillery
DESCRIPTION:Join members of Madison area Rotary clubs for a private tour and tasting in Lowe Mill. \nhttps://www.ironsone.com/
URL:https://www.rocketcountyrotary.org/event/multi-club-social-at-irons-one-distillery/
LOCATION:Irons One Distillery\, 2211 Seminole Dr SW\, Studio 2061. North Hall. 2nd Floor\, Huntsville\, AL\, 35805\, United States
END:VEVENT
END:VCALENDAR